BEGIN:VCALENDAR
VERSION:2.0
PRODID:-//www.mokangreyhounds.org//NONSGML kigkonsult.se iCalcreator 2.30.1
 0//
CALSCALE:GREGORIAN
METHOD:PUBLISH
UID:66cf2fa1-b819-440f-8449-18077a9282f3
X-WR-CALDESC:Please come see the Greyhounds at West Elm on the Country Club
  Plaza.  They will be sharing hugs\, kisses and so much love.
X-WR-RELCALID:84af8e923a0535cd2bfb780ed5517d0b
X-WR-TIMEZONE:America/Chicago
BEGIN:VTIMEZONE
TZID:America/Chicago
BEGIN:STANDARD
TZNAME:CST
DTSTART:20181104T020000
TZOFFSETFROM:-0500
TZOFFSETTO:-0600
RDATE:20191103T020000
END:STANDARD
BEGIN:DAYLIGHT
TZNAME:CDT
DTSTART:20190310T020000
TZOFFSETFROM:-0600
TZOFFSETTO:-0500
RDATE:20200308T020000
END:DAYLIGHT
END:VTIMEZONE
BEGIN:VEVENT
UID:7cfc7153-d80e-4cef-a1e0-8601076a80f9
DTSTAMP:20260423T002218Z
DESCRIPTION:Please come see the Greyhounds at West Elm on the Country Club 
 Plaza.  They will be sharing hugs\, kisses and so much love.
DTSTART;TZID=America/Chicago:20190413T110000
DTEND;TZID=America/Chicago:20190413T150000
LOCATION:West Elm Country Club Plaza
SUMMARY:West Elm Pop Up Adoption Event
END:VEVENT
END:VCALENDAR
