BEGIN:VCALENDAR
VERSION:2.0
PRODID:-//www.mokangreyhounds.org//NONSGML kigkonsult.se iCalcreator 2.30.1
 0//
CALSCALE:GREGORIAN
METHOD:PUBLISH
UID:cb8931de-53dc-4a03-aab9-a12d12b0bd45
X-WR-CALDESC:Join us for a hilarious and charitable night of HamBingo!  Eat
 \, drink\, laugh and help the Greyhounds.  Don't forget to make reservatio
 ns!  \n\nSign up to help as a volunteer using the When to Help link below.
X-WR-RELCALID:15d7d9c7bbd1e77b0c70ad39f90ca021
X-WR-TIMEZONE:America/Chicago
BEGIN:VTIMEZONE
TZID:America/Chicago
BEGIN:STANDARD
TZNAME:CST
DTSTART:20181104T020000
TZOFFSETFROM:-0500
TZOFFSETTO:-0600
RDATE:20191103T020000
END:STANDARD
BEGIN:DAYLIGHT
TZNAME:CDT
DTSTART:20190310T020000
TZOFFSETFROM:-0600
TZOFFSETTO:-0500
RDATE:20200308T020000
END:DAYLIGHT
END:VTIMEZONE
BEGIN:VEVENT
UID:460a8abd-e48b-4e26-8cbb-0cf026b70754
DTSTAMP:20260423T002723Z
DESCRIPTION:Join us for a hilarious and charitable night of HamBingo!  Eat\
 , drink\, laugh and help the Greyhounds.  Don't forget to make reservation
 s!  \n\nSign up to help as a volunteer using the When to Help link below.
DTSTART;TZID=America/Chicago:20190419T190000
DTEND;TZID=America/Chicago:20190419T210000
LOCATION:Hamburger Mary's
SUMMARY:Charity HamBINGO!
END:VEVENT
END:VCALENDAR
