BEGIN:VCALENDAR
VERSION:2.0
PRODID:-//www.mokangreyhounds.org//NONSGML kigkonsult.se iCalcreator 2.30.1
 0//
CALSCALE:GREGORIAN
METHOD:PUBLISH
UID:2254e45c-c6ec-4005-b908-ea58101e83dd
X-WR-CALDESC:Looking for your next best friend? Come meet her at Miles of E
 xotics!
X-WR-RELCALID:1469db32639712f53565d814dcabddd4
X-WR-TIMEZONE:America/Chicago
BEGIN:VTIMEZONE
TZID:America/Chicago
BEGIN:STANDARD
TZNAME:CST
DTSTART:20181104T020000
TZOFFSETFROM:-0500
TZOFFSETTO:-0600
RDATE:20191103T020000
END:STANDARD
BEGIN:DAYLIGHT
TZNAME:CDT
DTSTART:20190310T020000
TZOFFSETFROM:-0600
TZOFFSETTO:-0500
RDATE:20200308T020000
END:DAYLIGHT
END:VTIMEZONE
BEGIN:VEVENT
UID:3bc8b3f5-045d-44cb-8709-416c4754e8e5
DTSTAMP:20260423T002510Z
DESCRIPTION:Looking for your next best friend? Come meet her at Miles of Ex
 otics!
DTSTART;TZID=America/Chicago:20190427T110000
DTEND;TZID=America/Chicago:20190427T150000
LOCATION:8350 N Broadway\, Kansas City\, MO 64118
SUMMARY:Miles of Exotics - Barry Road
END:VEVENT
END:VCALENDAR
