BEGIN:VCALENDAR
VERSION:2.0
PRODID:-//www.mokangreyhounds.org//NONSGML kigkonsult.se iCalcreator 2.30.1
 0//
CALSCALE:GREGORIAN
METHOD:PUBLISH
UID:5e8073a5-fdc0-48b8-8658-ec1b3eb83ea0
X-WR-CALDESC:Spring is made for Love! Puppy love anyway. Meet your love at 
 Petco on Stateline!
X-WR-RELCALID:84bd54b1dc40c6ca12a17727a8c43967
X-WR-TIMEZONE:America/Chicago
BEGIN:VTIMEZONE
TZID:America/Chicago
BEGIN:STANDARD
TZNAME:CST
DTSTART:20181104T020000
TZOFFSETFROM:-0500
TZOFFSETTO:-0600
RDATE:20191103T020000
END:STANDARD
BEGIN:DAYLIGHT
TZNAME:CDT
DTSTART:20190310T020000
TZOFFSETFROM:-0600
TZOFFSETTO:-0500
RDATE:20200308T020000
END:DAYLIGHT
END:VTIMEZONE
BEGIN:VEVENT
UID:44769864-39de-4bc9-81dc-d1c78cff4b92
DTSTAMP:20260423T002120Z
DESCRIPTION:Spring is made for Love! Puppy love anyway. Meet your love at P
 etco on Stateline!
DTSTART;TZID=America/Chicago:20190427T110000
DTEND;TZID=America/Chicago:20190427T150000
LOCATION:1210 W 136th St\, Kansas City\, MO 64145
SUMMARY:Petco - Stateline
END:VEVENT
END:VCALENDAR
