BEGIN:VCALENDAR
VERSION:2.0
PRODID:-//www.mokangreyhounds.org//NONSGML kigkonsult.se iCalcreator 2.30.1
 0//
CALSCALE:GREGORIAN
METHOD:PUBLISH
UID:34137ce6-6764-4908-886d-55a5623c5570
X-WR-CALDESC:Experience First Fridays at Tail Waggin' Petstop with the ulti
 mate in urban chic -- the greyhound!
X-WR-RELCALID:6730354d50c32ed303434eeb62c0394c
X-WR-TIMEZONE:America/Chicago
BEGIN:VTIMEZONE
TZID:America/Chicago
BEGIN:STANDARD
TZNAME:CST
DTSTART:20181104T020000
TZOFFSETFROM:-0500
TZOFFSETTO:-0600
RDATE:20191103T020000
RDATE:20201101T020000
END:STANDARD
BEGIN:DAYLIGHT
TZNAME:CDT
DTSTART:20190310T020000
TZOFFSETFROM:-0600
TZOFFSETTO:-0500
RDATE:20200308T020000
END:DAYLIGHT
END:VTIMEZONE
BEGIN:VEVENT
UID:0fa27fa7-f673-42b4-8805-e54c1471de8c
DTSTAMP:20260422T221101Z
DESCRIPTION:Experience First Fridays at Tail Waggin' Petstop with the ultim
 ate in urban chic -- the greyhound!
DTSTART;TZID=America/Chicago:20190503T183000
DTEND;TZID=America/Chicago:20190503T200000
LOCATION:1818 Wyandotte St\, Kansas City\, MO 64108
SUMMARY:Adoption Event -Tail Waggin' Petstop
END:VEVENT
END:VCALENDAR
