BEGIN:VCALENDAR
VERSION:2.0
PRODID:-//www.mokangreyhounds.org//NONSGML kigkonsult.se iCalcreator 2.30.1
 0//
CALSCALE:GREGORIAN
METHOD:PUBLISH
UID:c22a3fa1-b27c-431b-ad77-ee0ad2111624
X-WR-CALDESC:Feel the love at Pet Supplies Plus in Ranch Mart!
X-WR-RELCALID:bae710c43368a2011e72104d220940e3
X-WR-TIMEZONE:America/Chicago
BEGIN:VTIMEZONE
TZID:America/Chicago
BEGIN:STANDARD
TZNAME:CST
DTSTART:20181104T020000
TZOFFSETFROM:-0500
TZOFFSETTO:-0600
RDATE:20191103T020000
RDATE:20201101T020000
END:STANDARD
BEGIN:DAYLIGHT
TZNAME:CDT
DTSTART:20190310T020000
TZOFFSETFROM:-0600
TZOFFSETTO:-0500
RDATE:20200308T020000
END:DAYLIGHT
END:VTIMEZONE
BEGIN:VEVENT
UID:fb36f8bf-1db8-4034-9971-31157a1bdb61
DTSTAMP:20260424T111248Z
DESCRIPTION:Feel the love at Pet Supplies Plus in Ranch Mart!
DTSTART;TZID=America/Chicago:20190511T110000
DTEND;TZID=America/Chicago:20190511T150000
LOCATION:Pet Supplies Plus - 3703 W 95th St\, Overland Park\, KS 66206
SUMMARY:Adoption Event - Pet Supplies Plus - Ranch Mart
END:VEVENT
END:VCALENDAR
