BEGIN:VCALENDAR
VERSION:2.0
PRODID:-//www.mokangreyhounds.org//NONSGML kigkonsult.se iCalcreator 2.30.1
 0//
CALSCALE:GREGORIAN
METHOD:PUBLISH
UID:f0730b89-9bca-46b9-ae37-68449ba17e46
X-WR-CALDESC:Come cuddle a greyhound at Petco on Madison\, just off Barry R
 oad!
X-WR-RELCALID:afa74b5764c1f0e97a2622768ab9ca0e
X-WR-TIMEZONE:America/Chicago
BEGIN:VTIMEZONE
TZID:America/Chicago
BEGIN:STANDARD
TZNAME:CST
DTSTART:20181104T020000
TZOFFSETFROM:-0500
TZOFFSETTO:-0600
RDATE:20191103T020000
RDATE:20201101T020000
END:STANDARD
BEGIN:DAYLIGHT
TZNAME:CDT
DTSTART:20190310T020000
TZOFFSETFROM:-0600
TZOFFSETTO:-0500
RDATE:20200308T020000
END:DAYLIGHT
END:VTIMEZONE
BEGIN:VEVENT
UID:585a5570-b065-49ff-aaa2-a72d31ff2bba
DTSTAMP:20260422T222948Z
DESCRIPTION:Come cuddle a greyhound at Petco on Madison\, just off Barry Ro
 ad!
DTSTART;TZID=America/Chicago:20190511T110000
DTEND;TZID=America/Chicago:20190511T150000
LOCATION:8600 N. Madison Avenue Kansas City\, MO 64155
SUMMARY:Adoption Event - Petco off Barry Road
END:VEVENT
END:VCALENDAR
