BEGIN:VCALENDAR
VERSION:2.0
PRODID:-//www.mokangreyhounds.org//NONSGML kigkonsult.se iCalcreator 2.30.1
 0//
CALSCALE:GREGORIAN
METHOD:PUBLISH
UID:a633c489-be30-4e7d-aecc-942982a82e1a
X-WR-CALDESC:Paint a portrait of your pet at Project Pet. Once you sign up 
 for the painting\, email us a high quality digital photo of your pet (one 
 pet per canvas\, please) and we will do the rest. Each photo will be trans
 ferred onto a 16”X20” canvas. Our talented artists will walk you through t
 he steps to create your very own Pet Portrait! \n\nEmail your pet's photo 
 to us by May 8th! briarcliff@pinotspalette.com \n\nEach reservation will d
 onate to MoKan Greyhound Adoption. This non-profit organization educates t
 he public about the availability of retired racing Greyhounds as pets and 
 to find them forever homes. Their program is all volunteer run and relies 
 heavily on fundraising and donations to provide for the dogs in their care
 .
X-WR-RELCALID:5227f2dd59c26ef1c56e7cede0a46a78
X-WR-TIMEZONE:America/Chicago
BEGIN:VTIMEZONE
TZID:America/Chicago
BEGIN:STANDARD
TZNAME:CST
DTSTART:20181104T020000
TZOFFSETFROM:-0500
TZOFFSETTO:-0600
RDATE:20191103T020000
RDATE:20201101T020000
END:STANDARD
BEGIN:DAYLIGHT
TZNAME:CDT
DTSTART:20190310T020000
TZOFFSETFROM:-0600
TZOFFSETTO:-0500
RDATE:20200308T020000
END:DAYLIGHT
END:VTIMEZONE
BEGIN:VEVENT
UID:b21bbfcb-ab94-40c1-a9c5-40d55fd35a23
DTSTAMP:20260422T223759Z
DESCRIPTION:Paint a portrait of your pet at Project Pet. Once you sign up f
 or the painting\, email us a high quality digital photo of your pet (one p
 et per canvas\, please) and we will do the rest. Each photo will be transf
 erred onto a 16”X20” canvas. Our talented artists will walk you through th
 e steps to create your very own Pet Portrait! \n\nEmail your pet's photo t
 o us by May 8th! briarcliff@pinotspalette.com \n\nEach reservation will do
 nate to MoKan Greyhound Adoption. This non-profit organization educates th
 e public about the availability of retired racing Greyhounds as pets and t
 o find them forever homes. Their program is all volunteer run and relies h
 eavily on fundraising and donations to provide for the dogs in their care.
DTSTART;TZID=America/Chicago:20190518T130000
DTEND;TZID=America/Chicago:20190518T160000
LOCATION:Pinot's Palette 4165 N. Mulberry Drive\, Kansas City\, MO
SUMMARY:Project Pet - Paint Your Pet
END:VEVENT
END:VCALENDAR
