BEGIN:VCALENDAR
VERSION:2.0
PRODID:-//www.mokangreyhounds.org//NONSGML kigkonsult.se iCalcreator 2.30.1
 0//
CALSCALE:GREGORIAN
METHOD:PUBLISH
UID:90dfb7ad-64bc-44a2-9649-87601d77a823
X-WR-CALDESC:Come meet the greyhounds at a Meet and Greet at Three Dog Bake
 ry BluHawk location on 160th St in Overland Park
X-WR-RELCALID:fbe90d371c0fdc2e12c654c7cccb9cf2
X-WR-TIMEZONE:America/Chicago
BEGIN:VTIMEZONE
TZID:America/Chicago
BEGIN:STANDARD
TZNAME:CST
DTSTART:20181104T020000
TZOFFSETFROM:-0500
TZOFFSETTO:-0600
RDATE:20191103T020000
RDATE:20201101T020000
END:STANDARD
BEGIN:DAYLIGHT
TZNAME:CDT
DTSTART:20190310T020000
TZOFFSETFROM:-0600
TZOFFSETTO:-0500
RDATE:20200308T020000
END:DAYLIGHT
END:VTIMEZONE
BEGIN:VEVENT
UID:50b6696d-2760-4d3e-91c8-b59dc28cc328
DTSTAMP:20260422T203144Z
DESCRIPTION:Come meet the greyhounds at a Meet and Greet at Three Dog Baker
 y BluHawk location on 160th St in Overland Park
DTSTART;TZID=America/Chicago:20190601T110000
DTEND;TZID=America/Chicago:20190601T150000
LOCATION:Three Dog Bakery\, 7951 W 160th St\, Ste 520 OP KS  66223
SUMMARY:Three Dog Bakery
END:VEVENT
END:VCALENDAR
