BEGIN:VCALENDAR
VERSION:2.0
PRODID:-//www.mokangreyhounds.org//NONSGML kigkonsult.se iCalcreator 2.30.1
 0//
CALSCALE:GREGORIAN
METHOD:PUBLISH
UID:5d5c4a43-20b3-4183-a1ab-3df1303155e9
X-WR-CALDESC:Northland Animal Welfare Society annual Woofstock event.\nhttp
 ://www.pcnaws.org\n
X-WR-RELCALID:d6c3f0e11e4cac3757f95fdad2e0fb00
X-WR-TIMEZONE:America/Chicago
BEGIN:VTIMEZONE
TZID:America/Chicago
BEGIN:STANDARD
TZNAME:CST
DTSTART:20181104T020000
TZOFFSETFROM:-0500
TZOFFSETTO:-0600
RDATE:20191103T020000
RDATE:20201101T020000
END:STANDARD
BEGIN:DAYLIGHT
TZNAME:CDT
DTSTART:20190310T020000
TZOFFSETFROM:-0600
TZOFFSETTO:-0500
RDATE:20200308T020000
END:DAYLIGHT
END:VTIMEZONE
BEGIN:VEVENT
UID:c6b62f42-03f2-4656-be77-67f33d0ea2e9
DTSTAMP:20260422T203431Z
DESCRIPTION:Northland Animal Welfare Society annual Woofstock event.\nhttp:
 //www.pcnaws.org\n
DTSTART;TZID=America/Chicago:20190601T110000
DTEND;TZID=America/Chicago:20190601T150000
LOCATION:Woofstock
SUMMARY:Woofstock
END:VEVENT
END:VCALENDAR
