BEGIN:VCALENDAR
VERSION:2.0
PRODID:-//www.mokangreyhounds.org//NONSGML kigkonsult.se iCalcreator 2.30.1
 0//
CALSCALE:GREGORIAN
METHOD:PUBLISH
UID:fb972acb-b2c7-463e-ab4d-f51f8464a5bf
X-WR-CALDESC:Join us to meet greyhounds at Four Paws Pantry!
X-WR-RELCALID:8813820943794cbabe50af3a59a9abe4
X-WR-TIMEZONE:America/Chicago
BEGIN:VTIMEZONE
TZID:America/Chicago
BEGIN:STANDARD
TZNAME:CST
DTSTART:20181104T020000
TZOFFSETFROM:-0500
TZOFFSETTO:-0600
RDATE:20191103T020000
RDATE:20201101T020000
END:STANDARD
BEGIN:DAYLIGHT
TZNAME:CDT
DTSTART:20190310T020000
TZOFFSETFROM:-0600
TZOFFSETTO:-0500
RDATE:20200308T020000
END:DAYLIGHT
END:VTIMEZONE
BEGIN:VEVENT
UID:1cb6fbaa-7531-4ca3-aaac-fbc4dbabf87e
DTSTAMP:20260422T203206Z
DESCRIPTION:Join us to meet greyhounds at Four Paws Pantry!
DTSTART;TZID=America/Chicago:20190622T110000
DTEND;TZID=America/Chicago:20190622T150000
LOCATION:14040 W 119th St\, Olathe\, KS 66062
SUMMARY:Four Paws Pantry
END:VEVENT
END:VCALENDAR
