BEGIN:VCALENDAR
VERSION:2.0
PRODID:-//www.mokangreyhounds.org//NONSGML kigkonsult.se iCalcreator 2.30.1
 0//
CALSCALE:GREGORIAN
METHOD:PUBLISH
UID:010ccec1-2ab9-4448-9288-0a8038599821
X-WR-CALDESC:Join us to meet the greyhounds at Miles of Exotics.\n\n8350 N 
 Broadway\, Kansas City\, MO 64118\n
X-WR-RELCALID:1097c436ef8dceb7a3df608308cfa051
X-WR-TIMEZONE:America/Chicago
BEGIN:VTIMEZONE
TZID:America/Chicago
BEGIN:STANDARD
TZNAME:CST
DTSTART:20181104T020000
TZOFFSETFROM:-0500
TZOFFSETTO:-0600
RDATE:20191103T020000
RDATE:20201101T020000
END:STANDARD
BEGIN:DAYLIGHT
TZNAME:CDT
DTSTART:20190310T020000
TZOFFSETFROM:-0600
TZOFFSETTO:-0500
RDATE:20200308T020000
END:DAYLIGHT
END:VTIMEZONE
BEGIN:VEVENT
UID:d90625c0-9964-4c43-96b5-9af79d839eea
DTSTAMP:20260422T202646Z
DESCRIPTION:Join us to meet the greyhounds at Miles of Exotics.\n\n8350 N B
 roadway\, Kansas City\, MO 64118\n
DTSTART;TZID=America/Chicago:20190622T110000
DTEND;TZID=America/Chicago:20190622T150000
LOCATION:Miles of Exotics
SUMMARY:Miles of Exotics
END:VEVENT
END:VCALENDAR
