BEGIN:VCALENDAR
VERSION:2.0
PRODID:-//www.mokangreyhounds.org//NONSGML kigkonsult.se iCalcreator 2.30.1
 0//
CALSCALE:GREGORIAN
METHOD:PUBLISH
UID:6ae78a59-bdeb-4e2d-b6ae-b9a205439e95
X-WR-CALDESC:Join us to meet the greyhounds at Three Dog Bakery located at 
 910-P NW Blue Pkwy in Lee's Summit
X-WR-RELCALID:18e906e10d4396812525fe31afabb351
X-WR-TIMEZONE:America/Chicago
BEGIN:VTIMEZONE
TZID:America/Chicago
BEGIN:STANDARD
TZNAME:CST
DTSTART:20181104T020000
TZOFFSETFROM:-0500
TZOFFSETTO:-0600
RDATE:20191103T020000
RDATE:20201101T020000
END:STANDARD
BEGIN:DAYLIGHT
TZNAME:CDT
DTSTART:20190310T020000
TZOFFSETFROM:-0600
TZOFFSETTO:-0500
RDATE:20200308T020000
END:DAYLIGHT
END:VTIMEZONE
BEGIN:VEVENT
UID:279daf47-e8d7-4eed-9b9b-d77980e2b464
DTSTAMP:20260422T183518Z
DESCRIPTION:Join us to meet the greyhounds at Three Dog Bakery located at 9
 10-P NW Blue Pkwy in Lee's Summit
DTSTART;TZID=America/Chicago:20190713T110000
DTEND;TZID=America/Chicago:20190713T150000
LOCATION:Three Dog Bakery\, Leawood
SUMMARY:Three Dog Bakery Meet and Greet
END:VEVENT
END:VCALENDAR
