BEGIN:VCALENDAR
VERSION:2.0
PRODID:-//www.mokangreyhounds.org//NONSGML kigkonsult.se iCalcreator 2.30.1
 0//
CALSCALE:GREGORIAN
METHOD:PUBLISH
UID:1d6916e5-b746-4ab2-950b-626d570b5673
X-WR-CALDESC:Join us for an evening of bingo at Hamburger Mary's to raise m
 oney for MoKan Greyhound Adoption.\n\nHamburger Mary's is located at 3700 
 Broadway in KC\, MO.\n\nhttps://www.hamburgermarys.com/kc/
X-WR-RELCALID:8205050b3558f4fc0912ef4528cdd916
X-WR-TIMEZONE:America/Chicago
BEGIN:VTIMEZONE
TZID:America/Chicago
BEGIN:STANDARD
TZNAME:CST
DTSTART:20181104T020000
TZOFFSETFROM:-0500
TZOFFSETTO:-0600
RDATE:20191103T020000
RDATE:20201101T020000
END:STANDARD
BEGIN:DAYLIGHT
TZNAME:CDT
DTSTART:20190310T020000
TZOFFSETFROM:-0600
TZOFFSETTO:-0500
RDATE:20200308T020000
END:DAYLIGHT
END:VTIMEZONE
BEGIN:VEVENT
UID:b3f30948-31c3-4bde-a0a0-dd6e80687410
DTSTAMP:20260422T183137Z
DESCRIPTION:Join us for an evening of bingo at Hamburger Mary's to raise mo
 ney for MoKan Greyhound Adoption.\n\nHamburger Mary's is located at 3700 B
 roadway in KC\, MO.\n\nhttps://www.hamburgermarys.com/kc/
DTSTART;TZID=America/Chicago:20190717T190000
DTEND;TZID=America/Chicago:20190717T210000
LOCATION:Hamburger Mary's
SUMMARY:Hambingo
END:VEVENT
END:VCALENDAR
