BEGIN:VCALENDAR
VERSION:2.0
PRODID:-//www.mokangreyhounds.org//NONSGML kigkonsult.se iCalcreator 2.30.1
 0//
CALSCALE:GREGORIAN
METHOD:PUBLISH
UID:51e109e1-1490-49da-829b-143441183f1b
X-WR-CALDESC:Join us to meet the greyhounds at Miles of Exotics.\n\n8350 N 
 Broadway\, Kansas City\, MO 64118\n
X-WR-RELCALID:2e86c1f602492a2a07ea0003cb06bd13
X-WR-TIMEZONE:America/Chicago
BEGIN:VTIMEZONE
TZID:America/Chicago
BEGIN:STANDARD
TZNAME:CST
DTSTART:20181104T020000
TZOFFSETFROM:-0500
TZOFFSETTO:-0600
RDATE:20191103T020000
RDATE:20201101T020000
END:STANDARD
BEGIN:DAYLIGHT
TZNAME:CDT
DTSTART:20190310T020000
TZOFFSETFROM:-0600
TZOFFSETTO:-0500
RDATE:20200308T020000
END:DAYLIGHT
END:VTIMEZONE
BEGIN:VEVENT
UID:e0bcf688-69d2-4658-8468-27afb122a483
DTSTAMP:20260422T184156Z
DESCRIPTION:Join us to meet the greyhounds at Miles of Exotics.\n\n8350 N B
 roadway\, Kansas City\, MO 64118\n
DTSTART;TZID=America/Chicago:20190727T110000
DTEND;TZID=America/Chicago:20190727T150000
LOCATION:Miles of Exotics
SUMMARY:Miles of Exotics
END:VEVENT
END:VCALENDAR
