BEGIN:VCALENDAR
VERSION:2.0
PRODID:-//www.mokangreyhounds.org//NONSGML kigkonsult.se iCalcreator 2.30.1
 0//
CALSCALE:GREGORIAN
METHOD:PUBLISH
UID:14f580f3-6e6a-4ba1-a113-bf9f747196a6
X-WR-CALDESC:Join us to meet the greyhounds at Three Dog Bakery located at 
 7951 W 160th St Suite 520\, Overland Park\, KS 66223
X-WR-RELCALID:9565297d89f76f440092854c064f9448
X-WR-TIMEZONE:America/Chicago
BEGIN:VTIMEZONE
TZID:America/Chicago
BEGIN:STANDARD
TZNAME:CST
DTSTART:20181104T020000
TZOFFSETFROM:-0500
TZOFFSETTO:-0600
RDATE:20191103T020000
RDATE:20201101T020000
END:STANDARD
BEGIN:DAYLIGHT
TZNAME:CDT
DTSTART:20190310T020000
TZOFFSETFROM:-0600
TZOFFSETTO:-0500
RDATE:20200308T020000
END:DAYLIGHT
END:VTIMEZONE
BEGIN:VEVENT
UID:484f79bd-7ee4-458e-bb0c-fdc14cb7b88b
DTSTAMP:20260422T183803Z
DESCRIPTION:Join us to meet the greyhounds at Three Dog Bakery located at 7
 951 W 160th St Suite 520\, Overland Park\, KS 66223
DTSTART;TZID=America/Chicago:20190727T110000
DTEND;TZID=America/Chicago:20190727T150000
LOCATION:Three Dog Bakery\, Leawood
SUMMARY:Three Dog Bakery Meet and Greet
END:VEVENT
END:VCALENDAR
