BEGIN:VCALENDAR
VERSION:2.0
PRODID:-//www.mokangreyhounds.org//NONSGML kigkonsult.se iCalcreator 2.30.1
 0//
CALSCALE:GREGORIAN
METHOD:PUBLISH
UID:4814797d-fe91-482d-98e0-afefca9329a8
X-WR-CALDESC:https://www.lenexa.com/government/departments___divisions/park
 s___recreation/festivals_events/tails_on_the_trails_pet_festival
X-WR-RELCALID:1a3688fea5d685f1f743787da5a84419
X-WR-TIMEZONE:America/Chicago
BEGIN:VTIMEZONE
TZID:America/Chicago
BEGIN:STANDARD
TZNAME:CST
DTSTART:20181104T020000
TZOFFSETFROM:-0500
TZOFFSETTO:-0600
RDATE:20191103T020000
RDATE:20201101T020000
END:STANDARD
BEGIN:DAYLIGHT
TZNAME:CDT
DTSTART:20190310T020000
TZOFFSETFROM:-0600
TZOFFSETTO:-0500
RDATE:20200308T020000
END:DAYLIGHT
END:VTIMEZONE
BEGIN:VEVENT
UID:63a98d2c-de25-43c2-a581-32cd6231ab69
DTSTAMP:20260422T165315Z
DESCRIPTION:https://www.lenexa.com/government/departments___divisions/parks
 ___recreation/festivals_events/tails_on_the_trails_pet_festival
DTSTART;TZID=America/Chicago:20190810T090000
DTEND;TZID=America/Chicago:20190810T130000
LOCATION:Ad Astra Pool and Park\, 8265 Maurer Rd.\, Lenexa\, KS 66219
SUMMARY:Tails on the Trails
END:VEVENT
END:VCALENDAR
