BEGIN:VCALENDAR
VERSION:2.0
PRODID:-//www.mokangreyhounds.org//NONSGML kigkonsult.se iCalcreator 2.30.1
 0//
CALSCALE:GREGORIAN
METHOD:PUBLISH
UID:3791d4c3-1359-49cc-894a-505736c919b7
X-WR-CALDESC:Bring your dog to swim and meet the greyhounds!  Please visit 
 the city of Shawnee website for registration information.\n\nhttps://cityo
 fshawnee.org/Departments/Parks_Recreation/Special_Events/K9s_at_the_cove
X-WR-RELCALID:54b8ab194348d5ef4e735d671ffd3138
X-WR-TIMEZONE:America/Chicago
BEGIN:VTIMEZONE
TZID:America/Chicago
BEGIN:STANDARD
TZNAME:CST
DTSTART:20181104T020000
TZOFFSETFROM:-0500
TZOFFSETTO:-0600
RDATE:20191103T020000
RDATE:20201101T020000
END:STANDARD
BEGIN:DAYLIGHT
TZNAME:CDT
DTSTART:20190310T020000
TZOFFSETFROM:-0600
TZOFFSETTO:-0500
RDATE:20200308T020000
END:DAYLIGHT
END:VTIMEZONE
BEGIN:VEVENT
UID:3a40bd17-5f52-4675-a1c3-3d90e5da860a
DTSTAMP:20260422T164148Z
DESCRIPTION:Bring your dog to swim and meet the greyhounds!  Please visit t
 he city of Shawnee website for registration information.\n\nhttps://cityof
 shawnee.org/Departments/Parks_Recreation/Special_Events/K9s_at_the_cove
DTSTART;TZID=America/Chicago:20190817T071500
DTEND;TZID=America/Chicago:20190817T110000
LOCATION:Splash Cove\, 5800 King St\, Shawnee\, KS
SUMMARY:K9's at the Cove
END:VEVENT
END:VCALENDAR
