BEGIN:VCALENDAR
VERSION:2.0
PRODID:-//www.mokangreyhounds.org//NONSGML kigkonsult.se iCalcreator 2.30.1
 0//
CALSCALE:GREGORIAN
METHOD:PUBLISH
UID:fdacb0f9-5552-4938-a1df-2faef5b96406
X-WR-CALDESC:Looking for your next best friend? Come meet her at Miles of E
 xotics!
X-WR-RELCALID:b1708d21577383a0595e4e5820e73e47
X-WR-TIMEZONE:America/Chicago
BEGIN:VTIMEZONE
TZID:America/Chicago
BEGIN:STANDARD
TZNAME:CST
DTSTART:20181104T020000
TZOFFSETFROM:-0500
TZOFFSETTO:-0600
RDATE:20191103T020000
RDATE:20201101T020000
END:STANDARD
BEGIN:DAYLIGHT
TZNAME:CDT
DTSTART:20190310T020000
TZOFFSETFROM:-0600
TZOFFSETTO:-0500
RDATE:20200308T020000
RDATE:20210314T020000
END:DAYLIGHT
END:VTIMEZONE
BEGIN:VEVENT
UID:f576efa7-414f-40b0-b225-bba7dae0af6c
DTSTAMP:20260422T145931Z
DESCRIPTION:Looking for your next best friend? Come meet her at Miles of Ex
 otics!
DTSTART;TZID=America/Chicago:20190914T110000
DTEND;TZID=America/Chicago:20190914T150000
LOCATION:8350 N Broadway\, Kansas City\, MO 64118
SUMMARY:Miles of Exotics - Barry Road
END:VEVENT
END:VCALENDAR
