BEGIN:VCALENDAR
VERSION:2.0
PRODID:-//www.mokangreyhounds.org//NONSGML kigkonsult.se iCalcreator 2.30.1
 0//
CALSCALE:GREGORIAN
METHOD:PUBLISH
UID:600a6520-bd6b-4c0a-834f-6da70ed48d1d
X-WR-CALDESC:Please come see the Greyhounds at West Elm on the Country Club
  Plaza.  They will be sharing hugs\, kisses and so much love.
X-WR-RELCALID:7c72846178cac6afc10d40ea89637a5b
X-WR-TIMEZONE:America/Chicago
BEGIN:VTIMEZONE
TZID:America/Chicago
BEGIN:STANDARD
TZNAME:CST
DTSTART:20181104T020000
TZOFFSETFROM:-0500
TZOFFSETTO:-0600
RDATE:20191103T020000
RDATE:20201101T020000
END:STANDARD
BEGIN:DAYLIGHT
TZNAME:CDT
DTSTART:20190310T020000
TZOFFSETFROM:-0600
TZOFFSETTO:-0500
RDATE:20200308T020000
RDATE:20210314T020000
END:DAYLIGHT
END:VTIMEZONE
BEGIN:VEVENT
UID:71e4658e-53d4-4b26-8495-a09bf642ba22
DTSTAMP:20260422T150500Z
DESCRIPTION:Please come see the Greyhounds at West Elm on the Country Club 
 Plaza.  They will be sharing hugs\, kisses and so much love.
DTSTART;TZID=America/Chicago:20190914T110000
DTEND;TZID=America/Chicago:20190914T150000
LOCATION:West Elm Country Club Plaza
SUMMARY:West Elm Adoption Event
END:VEVENT
END:VCALENDAR
