BEGIN:VCALENDAR
VERSION:2.0
PRODID:-//www.mokangreyhounds.org//NONSGML kigkonsult.se iCalcreator 2.30.1
 0//
CALSCALE:GREGORIAN
METHOD:PUBLISH
UID:eece5670-981f-4d05-a571-3bb77b88b043
X-WR-CALDESC:Join us at the 3nd Annual Barktober Fest for a day of music\, 
 vendors and family fun!\n\nVolunteers can sign up at www.whentohelp.com
X-WR-RELCALID:7adf0cce30c0241ac9b330e2a74d8906
X-WR-TIMEZONE:America/Chicago
BEGIN:VTIMEZONE
TZID:America/Chicago
BEGIN:STANDARD
TZNAME:CST
DTSTART:20181104T020000
TZOFFSETFROM:-0500
TZOFFSETTO:-0600
RDATE:20191103T020000
RDATE:20201101T020000
END:STANDARD
BEGIN:DAYLIGHT
TZNAME:CDT
DTSTART:20190310T020000
TZOFFSETFROM:-0600
TZOFFSETTO:-0500
RDATE:20200308T020000
RDATE:20210314T020000
END:DAYLIGHT
END:VTIMEZONE
BEGIN:VEVENT
UID:94cab7c8-c534-488e-9f16-5d1df91031b7
DTSTAMP:20260422T132508Z
DESCRIPTION:Join us at the 3nd Annual Barktober Fest for a day of music\, v
 endors and family fun!\n\nVolunteers can sign up at www.whentohelp.com
DTSTART;TZID=America/Chicago:20191012T100000
DTEND;TZID=America/Chicago:20191012T183000
LOCATION:Shawnee Mission Theater in the Park\, 7710 Renner Rd\, Shawnee\, K
 S 66217
SUMMARY:Barktober Fest
END:VEVENT
END:VCALENDAR
