BEGIN:VCALENDAR
VERSION:2.0
PRODID:-//www.mokangreyhounds.org//NONSGML kigkonsult.se iCalcreator 2.30.1
 0//
CALSCALE:GREGORIAN
METHOD:PUBLISH
UID:c856b458-0ee4-44ba-b252-85b6d814d177
X-WR-CALDESC:FREE ADMISSION\, with dog food donation.\nFOOD DRIVE: Benefits
  local animal shelters\nGAMES: Sack Races • Bobbing for Biscuits • Musical
  Disks\nCONTESTS: Best Biscuit Eater • Best Tail Wagger • Costume Contest 
 • Dog/Owner Look-Alikes • Best Kisser • Best Trick\nDEMONSTRATIONS: Search
  & Rescue • Carting • Police Dogs • Service Dogs • Herding Dogs\nMATCHES/T
 ESTS/WORKSHOPS: Agility • Obedience • Rally • Canine Good Citizen • Dock D
 iving • Weave Pole Races • Frisbee\nBOOTHS: Rescue Groups • Boarding • Ado
 pt-A-Pet • Pet Supplies • Pet Sitters
X-WR-RELCALID:e6c495ff3cc66286fa8ea0d0b3d47a40
X-WR-TIMEZONE:America/Chicago
BEGIN:VTIMEZONE
TZID:America/Chicago
BEGIN:STANDARD
TZNAME:CST
DTSTART:20181104T020000
TZOFFSETFROM:-0500
TZOFFSETTO:-0600
RDATE:20191103T020000
RDATE:20201101T020000
END:STANDARD
BEGIN:DAYLIGHT
TZNAME:CDT
DTSTART:20190310T020000
TZOFFSETFROM:-0600
TZOFFSETTO:-0500
RDATE:20200308T020000
RDATE:20210314T020000
END:DAYLIGHT
END:VTIMEZONE
BEGIN:VEVENT
UID:cb33bf47-5de2-4039-a5b3-c6c0f9b2050d
DTSTAMP:20260422T131800Z
DESCRIPTION:FREE ADMISSION\, with dog food donation.\nFOOD DRIVE: Benefits 
 local animal shelters\nGAMES: Sack Races • Bobbing for Biscuits • Musical 
 Disks\nCONTESTS: Best Biscuit Eater • Best Tail Wagger • Costume Contest •
  Dog/Owner Look-Alikes • Best Kisser • Best Trick\nDEMONSTRATIONS: Search 
 & Rescue • Carting • Police Dogs • Service Dogs • Herding Dogs\nMATCHES/TE
 STS/WORKSHOPS: Agility • Obedience • Rally • Canine Good Citizen • Dock Di
 ving • Weave Pole Races • Frisbee\nBOOTHS: Rescue Groups • Boarding • Adop
 t-A-Pet • Pet Supplies • Pet Sitters
DTSTART;TZID=America/Chicago:20191020T100000
DTEND;TZID=America/Chicago:20191020T160000
LOCATION:Kemper Outdoor Educational Center\, 8201 S Jasper Bell Rd\, Blue S
 prings\, MO 64015
SUMMARY:Dogtober Fest
END:VEVENT
END:VCALENDAR
