BEGIN:VCALENDAR
VERSION:2.0
PRODID:-//www.mokangreyhounds.org//NONSGML kigkonsult.se iCalcreator 2.30.1
 0//
CALSCALE:GREGORIAN
METHOD:PUBLISH
UID:9048f73a-f0c0-4434-8b24-5fbc8fa758b8
X-WR-CALDESC:Join us for an evening of bingo at Hamburger Mary's to raise m
 oney for MoKan Greyhound Adoption.  Don't forget to make your reservations
 !\n\nHamburger Mary's is located at 3700 Broadway in KC\, MO.\n\nhttps://w
 ww.hamburgermarys.com/kc/
X-WR-RELCALID:ffbef07922fa5779a021ac26598789ca
X-WR-TIMEZONE:America/Chicago
BEGIN:VTIMEZONE
TZID:America/Chicago
BEGIN:STANDARD
TZNAME:CST
DTSTART:20191103T020000
TZOFFSETFROM:-0500
TZOFFSETTO:-0600
RDATE:20201101T020000
END:STANDARD
BEGIN:DAYLIGHT
TZNAME:CDT
DTSTART:20190310T020000
TZOFFSETFROM:-0600
TZOFFSETTO:-0500
RDATE:20200308T020000
RDATE:20210314T020000
END:DAYLIGHT
END:VTIMEZONE
BEGIN:VEVENT
UID:624cbe3f-a989-41e4-93a7-eecd09046b71
DTSTAMP:20260422T112459Z
DESCRIPTION:Join us for an evening of bingo at Hamburger Mary's to raise mo
 ney for MoKan Greyhound Adoption.  Don't forget to make your reservations!
 \n\nHamburger Mary's is located at 3700 Broadway in KC\, MO.\n\nhttps://ww
 w.hamburgermarys.com/kc/
DTSTART;TZID=America/Chicago:20191108T190000
DTEND;TZID=America/Chicago:20191108T210000
LOCATION:Hamburger Mary's
SUMMARY:Hambingo
END:VEVENT
END:VCALENDAR
