BEGIN:VCALENDAR
VERSION:2.0
PRODID:-//www.mokangreyhounds.org//NONSGML kigkonsult.se iCalcreator 2.30.1
 0//
CALSCALE:GREGORIAN
METHOD:PUBLISH
UID:74b03cfc-ba92-4c5f-8d29-cd2ba9b12bbd
X-WR-CALDESC:All dressed up and somewhere to go at Four Paws Pantry in Olat
 he!
X-WR-RELCALID:c66aea538acdddb46eb9e963513c424d
X-WR-TIMEZONE:America/Chicago
BEGIN:VTIMEZONE
TZID:America/Chicago
BEGIN:STANDARD
TZNAME:CST
DTSTART:20191103T020000
TZOFFSETFROM:-0500
TZOFFSETTO:-0600
RDATE:20201101T020000
END:STANDARD
BEGIN:DAYLIGHT
TZNAME:CDT
DTSTART:20190310T020000
TZOFFSETFROM:-0600
TZOFFSETTO:-0500
RDATE:20200308T020000
RDATE:20210314T020000
END:DAYLIGHT
END:VTIMEZONE
BEGIN:VEVENT
UID:16ce0fb6-f65e-4a52-b8fa-12b9a9a49fc1
DTSTAMP:20260422T075032Z
DESCRIPTION:All dressed up and somewhere to go at Four Paws Pantry in Olath
 e!
DTSTART;TZID=America/Chicago:20200111T110000
DTEND;TZID=America/Chicago:20200111T150000
LOCATION:Four Paws Pantry & Spa\, 14040 W 119th St\, Olathe\, KS 66062
SUMMARY:Adoption Event - Four Paws Pantry
END:VEVENT
END:VCALENDAR
