BEGIN:VCALENDAR
VERSION:2.0
PRODID:-//www.mokangreyhounds.org//NONSGML kigkonsult.se iCalcreator 2.30.1
 0//
CALSCALE:GREGORIAN
METHOD:PUBLISH
UID:9b0e7051-4e78-4e7b-a749-cbb3810fce2a
X-WR-CALDESC:All dressed up and somewhere to go at Four Paws Pantry in Olat
 he!
X-WR-RELCALID:8cfdfbdab1bbf00c9dc2b4e11ae70959
X-WR-TIMEZONE:America/Chicago
BEGIN:VTIMEZONE
TZID:America/Chicago
BEGIN:STANDARD
TZNAME:CST
DTSTART:20191103T020000
TZOFFSETFROM:-0500
TZOFFSETTO:-0600
RDATE:20201101T020000
END:STANDARD
BEGIN:DAYLIGHT
TZNAME:CDT
DTSTART:20190310T020000
TZOFFSETFROM:-0600
TZOFFSETTO:-0500
RDATE:20200308T020000
RDATE:20210314T020000
END:DAYLIGHT
END:VTIMEZONE
BEGIN:VEVENT
UID:398d036d-198b-4f68-8bf7-4ad385e61713
DTSTAMP:20260422T074201Z
DESCRIPTION:All dressed up and somewhere to go at Four Paws Pantry in Olath
 e!
DTSTART;TZID=America/Chicago:20200118T110000
DTEND;TZID=America/Chicago:20200118T150000
LOCATION:Four Paws Pantry & Spa\, 14040 W 119th St\, Olathe\, KS 66062
SUMMARY:Adoption Event - Four Paws Pantry
END:VEVENT
END:VCALENDAR
