BEGIN:VCALENDAR
VERSION:2.0
PRODID:-//www.mokangreyhounds.org//NONSGML kigkonsult.se iCalcreator 2.30.1
 0//
CALSCALE:GREGORIAN
METHOD:PUBLISH
UID:cf61f3d4-d4e9-4be4-ba3e-15f716b6de04
X-WR-CALDESC:All dressed up and somewhere to go at Four Paws Pantry in Olat
 he!
X-WR-RELCALID:32e83d50a822d30a31179d58ef584069
X-WR-TIMEZONE:America/Chicago
BEGIN:VTIMEZONE
TZID:America/Chicago
BEGIN:STANDARD
TZNAME:CST
DTSTART:20191103T020000
TZOFFSETFROM:-0500
TZOFFSETTO:-0600
RDATE:20201101T020000
END:STANDARD
BEGIN:DAYLIGHT
TZNAME:CDT
DTSTART:20190310T020000
TZOFFSETFROM:-0600
TZOFFSETTO:-0500
RDATE:20200308T020000
RDATE:20210314T020000
END:DAYLIGHT
END:VTIMEZONE
BEGIN:VEVENT
UID:c309be50-4c42-4e21-9af1-4e19d6197d55
DTSTAMP:20260422T075318Z
DESCRIPTION:All dressed up and somewhere to go at Four Paws Pantry in Olath
 e!
DTSTART;TZID=America/Chicago:20200118T110000
DTEND;TZID=America/Chicago:20200118T150000
LOCATION:Four Paws Pantry & Spa\, 14040 W 119th St\, Olathe\, KS 66062
SUMMARY:Adoption Event - Liberty Petco
END:VEVENT
END:VCALENDAR
