BEGIN:VCALENDAR
VERSION:2.0
PRODID:-//www.mokangreyhounds.org//NONSGML kigkonsult.se iCalcreator 2.30.1
 0//
CALSCALE:GREGORIAN
METHOD:PUBLISH
UID:fcdf376e-eb38-4168-87c9-33f2a32282cd
X-WR-CALDESC:Join us to meet the greyhounds at Three Dog Bakery located at 
 910-P NW Blue Pkwy in Lee's Summit
X-WR-RELCALID:393e7447675bcea0bd5dca35a9f156f9
X-WR-TIMEZONE:America/Chicago
BEGIN:VTIMEZONE
TZID:America/Chicago
BEGIN:STANDARD
TZNAME:CST
DTSTART:20191103T020000
TZOFFSETFROM:-0500
TZOFFSETTO:-0600
RDATE:20201101T020000
END:STANDARD
BEGIN:DAYLIGHT
TZNAME:CDT
DTSTART:20190310T020000
TZOFFSETFROM:-0600
TZOFFSETTO:-0500
RDATE:20200308T020000
RDATE:20210314T020000
END:DAYLIGHT
END:VTIMEZONE
BEGIN:VEVENT
UID:728d3b15-e85a-431d-873d-a616183a4062
DTSTAMP:20260422T055735Z
DESCRIPTION:Join us to meet the greyhounds at Three Dog Bakery located at 9
 10-P NW Blue Pkwy in Lee's Summit
DTSTART;TZID=America/Chicago:20200201T110000
DTEND;TZID=America/Chicago:20200201T150000
LOCATION:Three Dog Bakery\, Lee's Summit\, MO
SUMMARY:Three Dog Bakery Lee's Summit\, MO Adoption Event
END:VEVENT
END:VCALENDAR
