BEGIN:VCALENDAR
VERSION:2.0
PRODID:-//www.mokangreyhounds.org//NONSGML kigkonsult.se iCalcreator 2.30.1
 0//
CALSCALE:GREGORIAN
METHOD:PUBLISH
UID:256319f9-082b-469b-b3ac-133d8c44ee24
X-WR-CALDESC:Join us to meet the greyhounds at the Petco at 169 and Barry R
 oad
X-WR-RELCALID:3a168e60af715ad4f0d10139e07fda5d
X-WR-TIMEZONE:America/Chicago
BEGIN:VTIMEZONE
TZID:America/Chicago
BEGIN:STANDARD
TZNAME:CST
DTSTART:20191103T020000
TZOFFSETFROM:-0500
TZOFFSETTO:-0600
RDATE:20201101T020000
END:STANDARD
BEGIN:DAYLIGHT
TZNAME:CDT
DTSTART:20190310T020000
TZOFFSETFROM:-0600
TZOFFSETTO:-0500
RDATE:20200308T020000
RDATE:20210314T020000
END:DAYLIGHT
END:VTIMEZONE
BEGIN:VEVENT
UID:fd75d7a8-39a9-4440-8abc-4e966bee47b6
DTSTAMP:20260420T004626Z
DESCRIPTION:Join us to meet the greyhounds at the Petco at 169 and Barry Ro
 ad
DTSTART;TZID=America/Chicago:20200222T110000
DTEND;TZID=America/Chicago:20200222T150000
LOCATION:Petco 8600 N Madison Avenue\, Kansas City\, MO 64155
SUMMARY:Adoption Event - Petco Twin Creeks
END:VEVENT
END:VCALENDAR
