BEGIN:VCALENDAR
VERSION:2.0
PRODID:-//www.mokangreyhounds.org//NONSGML kigkonsult.se iCalcreator 2.30.1
 0//
CALSCALE:GREGORIAN
METHOD:PUBLISH
UID:b5f2365d-3b4b-4fe3-aef4-b7b07fb1785c
X-WR-CALDESC:Come for your home remodeling and garden needs but\, come by o
 ur booth to love on the Greyhounds!
X-WR-RELCALID:847d583244ef3d40e86321e08665dcf6
X-WR-TIMEZONE:America/Chicago
BEGIN:VTIMEZONE
TZID:America/Chicago
BEGIN:STANDARD
TZNAME:CST
DTSTART:20191103T020000
TZOFFSETFROM:-0500
TZOFFSETTO:-0600
RDATE:20201101T020000
END:STANDARD
BEGIN:DAYLIGHT
TZNAME:CDT
DTSTART:20200308T020000
TZOFFSETFROM:-0600
TZOFFSETTO:-0500
RDATE:20210314T020000
END:DAYLIGHT
END:VTIMEZONE
BEGIN:VEVENT
UID:ae477052-e9ef-4806-af42-d7facc4bd5ad
DTSTAMP:20260423T135723Z
DESCRIPTION:Come for your home remodeling and garden needs but\, come by ou
 r booth to love on the Greyhounds!
DTSTART;TZID=America/Chicago:20200315T100000
DTEND;TZID=America/Chicago:20200315T170000
LOCATION:Kansas City Convention Center
SUMMARY:CANCELLED - Greater Kansas City Home Show
END:VEVENT
END:VCALENDAR
