BEGIN:VCALENDAR
VERSION:2.0
PRODID:-//www.mokangreyhounds.org//NONSGML kigkonsult.se iCalcreator 2.30.1
 0//
CALSCALE:GREGORIAN
METHOD:PUBLISH
UID:997490d1-03a1-49d5-ae3b-1ddd73853988
X-WR-CALDESC:Come meet the greyhounds!
X-WR-RELCALID:8e310460d15b524bada9a354f228a352
X-WR-TIMEZONE:America/Chicago
BEGIN:VTIMEZONE
TZID:America/Chicago
BEGIN:STANDARD
TZNAME:CST
DTSTART:20191103T020000
TZOFFSETFROM:-0500
TZOFFSETTO:-0600
RDATE:20201101T020000
END:STANDARD
BEGIN:DAYLIGHT
TZNAME:CDT
DTSTART:20200308T020000
TZOFFSETFROM:-0600
TZOFFSETTO:-0500
RDATE:20210314T020000
END:DAYLIGHT
END:VTIMEZONE
BEGIN:VEVENT
UID:720123b3-e1b0-4996-8fcd-4ef907a477bf
DTSTAMP:20260424T130650Z
DESCRIPTION:Come meet the greyhounds!
DTSTART;TZID=America/Chicago:20200425T110000
DTEND;TZID=America/Chicago:20200425T150000
LOCATION:Woofgang Bakery\, 11212 W 135th St\, Overland Park\, KS 66221
SUMMARY:Woofgang Bakery--Overland Park
END:VEVENT
END:VCALENDAR
