BEGIN:VCALENDAR
VERSION:2.0
PRODID:-//www.mokangreyhounds.org//NONSGML kigkonsult.se iCalcreator 2.30.1
 0//
CALSCALE:GREGORIAN
METHOD:PUBLISH
UID:801995de-329e-4ac9-a5d2-98a061fbbb92
X-WR-CALDESC:Join us at Bar K for a little Greyhound fun and pictures with 
 Santa!
X-WR-RELCALID:0b63d72bec56daad46986f36410a0d57
X-WR-TIMEZONE:America/Chicago
BEGIN:VTIMEZONE
TZID:America/Chicago
BEGIN:STANDARD
TZNAME:CST
DTSTART:20211107T020000
TZOFFSETFROM:-0500
TZOFFSETTO:-0600
RDATE:20221106T020000
END:STANDARD
BEGIN:DAYLIGHT
TZNAME:CDT
DTSTART:20210314T020000
TZOFFSETFROM:-0600
TZOFFSETTO:-0500
RDATE:20220313T020000
RDATE:20230312T020000
END:DAYLIGHT
END:VTIMEZONE
BEGIN:VEVENT
UID:aac8f899-858e-426e-888b-245fba2eafd7
DTSTAMP:20260420T114415Z
DESCRIPTION:Join us at Bar K for a little Greyhound fun and pictures with S
 anta!
DTSTART;TZID=America/Chicago:20211205T110000
DTEND;TZID=America/Chicago:20211205T130000
LOCATION:Bar K
SUMMARY:Bar K Adoption Event and Pictures with Santa
END:VEVENT
END:VCALENDAR
