BEGIN:VCALENDAR
VERSION:2.0
PRODID:-//www.mokangreyhounds.org//NONSGML kigkonsult.se iCalcreator 2.30.1
 0//
CALSCALE:GREGORIAN
METHOD:PUBLISH
UID:5f143f84-1230-4b12-b32b-9bb34cef26ae
X-WR-CALDESC:Join us for an evening of bingo at Hamburger Mary's to raise m
 oney for MoKan Greyhound Adoption.  Don't forget to make your reservations
 !\n\nHamburger Mary's is located at 3700 Broadway in KC\, MO.\n\nhttps://w
 ww.hamburgermarys.com/kc/
X-WR-RELCALID:99cfc8f0c5f691b9deeec0126fed3f53
X-WR-TIMEZONE:America/Chicago
BEGIN:VTIMEZONE
TZID:America/Chicago
BEGIN:STANDARD
TZNAME:CST
DTSTART:20211107T020000
TZOFFSETFROM:-0500
TZOFFSETTO:-0600
RDATE:20221106T020000
END:STANDARD
BEGIN:DAYLIGHT
TZNAME:CDT
DTSTART:20210314T020000
TZOFFSETFROM:-0600
TZOFFSETTO:-0500
RDATE:20220313T020000
RDATE:20230312T020000
END:DAYLIGHT
END:VTIMEZONE
BEGIN:VEVENT
UID:ce039e3f-77db-4d1f-bcfa-cce71596b493
DTSTAMP:20260420T112751Z
DESCRIPTION:Join us for an evening of bingo at Hamburger Mary's to raise mo
 ney for MoKan Greyhound Adoption.  Don't forget to make your reservations!
 \n\nHamburger Mary's is located at 3700 Broadway in KC\, MO.\n\nhttps://ww
 w.hamburgermarys.com/kc/
DTSTART;TZID=America/Chicago:20211218T160000
DTEND;TZID=America/Chicago:20211218T180000
LOCATION:Hamburger Mary's
SUMMARY:Hambingo
END:VEVENT
END:VCALENDAR
