BEGIN:VCALENDAR
VERSION:2.0
PRODID:-//www.mokangreyhounds.org//NONSGML kigkonsult.se iCalcreator 2.30.1
 0//
CALSCALE:GREGORIAN
METHOD:PUBLISH
UID:1265dd41-d7a9-47e2-8fed-6606d1b108bc
X-WR-CALDESC:Come meet the adorable greyhounds at Bar K!
X-WR-RELCALID:5b2b043e93acc893d993c68e93636c77
X-WR-TIMEZONE:America/Chicago
BEGIN:VTIMEZONE
TZID:America/Chicago
BEGIN:STANDARD
TZNAME:CST
DTSTART:20191103T020000
TZOFFSETFROM:-0500
TZOFFSETTO:-0600
RDATE:20201101T020000
RDATE:20211107T020000
END:STANDARD
BEGIN:DAYLIGHT
TZNAME:CDT
DTSTART:20200308T020000
TZOFFSETFROM:-0600
TZOFFSETTO:-0500
RDATE:20210314T020000
END:DAYLIGHT
END:VTIMEZONE
BEGIN:VEVENT
UID:333cfb5d-bfe1-4f11-877c-ea00cbae8ae7
DTSTAMP:20260420T000925Z
DESCRIPTION:Come meet the adorable greyhounds at Bar K!
DTSTART;TZID=America/Chicago:20200801T110000
DTEND;TZID=America/Chicago:20200801T150000
LOCATION:Bar K
SUMMARY:Bar K Meet and Greet
END:VEVENT
END:VCALENDAR
