BEGIN:VCALENDAR
VERSION:2.0
PRODID:-//www.mokangreyhounds.org//NONSGML kigkonsult.se iCalcreator 2.30.1
 0//
CALSCALE:GREGORIAN
METHOD:PUBLISH
UID:3d1e6c1c-a01f-4f7e-a073-05d616194ac5
X-WR-CALDESC:Come to Tail Waggin' Petstop to experience the ultimate in urb
 an chic -- the Greyhound!
X-WR-RELCALID:64ab2e6dbad9fc95b60bc798d0a18228
X-WR-TIMEZONE:America/Chicago
BEGIN:VTIMEZONE
TZID:America/Chicago
BEGIN:STANDARD
TZNAME:CST
DTSTART:20201101T020000
TZOFFSETFROM:-0500
TZOFFSETTO:-0600
RDATE:20211107T020000
RDATE:20221106T020000
END:STANDARD
BEGIN:DAYLIGHT
TZNAME:CDT
DTSTART:20210314T020000
TZOFFSETFROM:-0600
TZOFFSETTO:-0500
RDATE:20220313T020000
END:DAYLIGHT
END:VTIMEZONE
BEGIN:VEVENT
UID:3910758a-489e-4229-b965-56211d3cf821
DTSTAMP:20260424T080305Z
DESCRIPTION:Come to Tail Waggin' Petstop to experience the ultimate in urba
 n chic -- the Greyhound!
DTSTART;TZID=America/Chicago:20210702T170000
DTEND;TZID=America/Chicago:20210702T190000
LOCATION:1818 Wyandotte St\, Kansas City\, MO 64108
SUMMARY:Adoption Event -Tail Waggin' Petstop
END:VEVENT
END:VCALENDAR
